BEGIN:VCALENDAR
VERSION:2.0
PRODID:-//Astronomisches Zentrum Martinsberg - ECPv6.15.16//NONSGML v1.0//EN
CALSCALE:GREGORIAN
METHOD:PUBLISH
X-ORIGINAL-URL:https://azm-sternwarte-orion.at
X-WR-CALDESC:Veranstaltungen für Astronomisches Zentrum Martinsberg
REFRESH-INTERVAL;VALUE=DURATION:PT1H
X-Robots-Tag:noindex
X-PUBLISHED-TTL:PT1H
BEGIN:VTIMEZONE
TZID:Europe/Vienna
BEGIN:DAYLIGHT
TZOFFSETFROM:+0100
TZOFFSETTO:+0200
TZNAME:CEST
DTSTART:20250330T010000
END:DAYLIGHT
BEGIN:STANDARD
TZOFFSETFROM:+0200
TZOFFSETTO:+0100
TZNAME:CET
DTSTART:20251026T010000
END:STANDARD
BEGIN:DAYLIGHT
TZOFFSETFROM:+0100
TZOFFSETTO:+0200
TZNAME:CEST
DTSTART:20260329T010000
END:DAYLIGHT
BEGIN:STANDARD
TZOFFSETFROM:+0200
TZOFFSETTO:+0100
TZNAME:CET
DTSTART:20261025T010000
END:STANDARD
BEGIN:DAYLIGHT
TZOFFSETFROM:+0100
TZOFFSETTO:+0200
TZNAME:CEST
DTSTART:20270328T010000
END:DAYLIGHT
BEGIN:STANDARD
TZOFFSETFROM:+0200
TZOFFSETTO:+0100
TZNAME:CET
DTSTART:20271031T010000
END:STANDARD
END:VTIMEZONE
BEGIN:VEVENT
DTSTART;TZID=Europe/Vienna:20260320T170000
DTEND;TZID=Europe/Vienna:20260320T210000
DTSTAMP:20260420T102233
CREATED:20260125T135113Z
LAST-MODIFIED:20260130T142937Z
UID:3855-1774026000-1774040400@azm-sternwarte-orion.at
SUMMARY:Nachtrag Generalversammlung 2025 und Vortrag: "Warum wurde die Venus zur Gluthölle?" (P. Schmutzenhofer)
DESCRIPTION:Die im Oktober 2025 ausgefallene Generalversammlung findet ersatzweise dieses Frühjahr statt. Die nächste reguläre Generalversammlung (für 2026) ist für den 14. November dieses Jahres geplant. \nDanach wird Peter Schmutzenhofer der Frage nachgehen\, warum die Venus eine lebensfeindliche Gluthölle ist\, und welche Erkenntnisse daraus für die klimatische Entwicklung der Erde relevant sein könnten. Welche Vergleiche zwischen dieses beiden Planeten können gezogen werden? \nAls weitere Punkte stehen die Beobachtung von Venus und Jupiter sowie der schmalen zunehmenden Mondsichel in den frühen Abendstunden auf dem Programm. Und wenn die Bedingungen es erlauben\, hoffen wir einen Kometen aus der Kreutz-Gruppe ins Visier nehmen zu können.
URL:https://azm-sternwarte-orion.at/event/nachtrag-generalversammlung-2025-und-vortrag-warum-wurde-die-venus-zur-gluthoelle-p-schmutzenhofer/
LOCATION:AZM
CATEGORIES:Veranstaltungen im AZM
ATTACH;FMTTYPE=image/jpeg:https://azm-sternwarte-orion.at/wp-content/uploads/Venus-Earth-Comparison.jpg
END:VEVENT
END:VCALENDAR